BEGIN:VCALENDAR
VERSION:2.0
PRODID:-//Felix Sturm - ECPv6.2.8.1//NONSGML v1.0//EN
CALSCALE:GREGORIAN
METHOD:PUBLISH
X-WR-CALNAME:Felix Sturm
X-ORIGINAL-URL:http://sturmboxing.de
X-WR-CALDESC:Veranstaltungen für Felix Sturm
REFRESH-INTERVAL;VALUE=DURATION:PT1H
X-Robots-Tag:noindex
X-PUBLISHED-TTL:PT1H
BEGIN:VTIMEZONE
TZID:Europe/Berlin
BEGIN:DAYLIGHT
TZOFFSETFROM:+0100
TZOFFSETTO:+0200
TZNAME:CEST
DTSTART:20260329T010000
END:DAYLIGHT
BEGIN:STANDARD
TZOFFSETFROM:+0200
TZOFFSETTO:+0100
TZNAME:CET
DTSTART:20261025T010000
END:STANDARD
END:VTIMEZONE
BEGIN:VEVENT
DTSTART;TZID=Europe/Berlin:20260711T170000
DTEND;TZID=Europe/Berlin:20260711T233000
DTSTAMP:20260426T043500
CREATED:20260425T225845Z
LAST-MODIFIED:20260425T235215Z
UID:5471-1783789200-1783812600@sturmboxing.de
SUMMARY:one last dance Felix Sturm
DESCRIPTION:  \n 
URL:http://sturmboxing.de/event/one-last-dance/
ORGANIZER;CN="Sturm Boxing Promotion GmbH":MAILTO:info@sturmboxing.de
END:VEVENT
END:VCALENDAR